BEGIN:VCALENDAR
VERSION:2.0
PRODID:-//Förderverein der Stadtbibliothek Bergheim - ECPv6.15.13//NONSGML v1.0//EN
CALSCALE:GREGORIAN
METHOD:PUBLISH
X-WR-CALNAME:Förderverein der Stadtbibliothek Bergheim
X-ORIGINAL-URL:https://bibliotheksfreunde-bm.org
X-WR-CALDESC:Veranstaltungen für Förderverein der Stadtbibliothek Bergheim
REFRESH-INTERVAL;VALUE=DURATION:PT1H
X-Robots-Tag:noindex
X-PUBLISHED-TTL:PT1H
BEGIN:VTIMEZONE
TZID:Europe/Berlin
BEGIN:DAYLIGHT
TZOFFSETFROM:+0100
TZOFFSETTO:+0200
TZNAME:CEST
DTSTART:20240331T010000
END:DAYLIGHT
BEGIN:STANDARD
TZOFFSETFROM:+0200
TZOFFSETTO:+0100
TZNAME:CET
DTSTART:20241027T010000
END:STANDARD
BEGIN:DAYLIGHT
TZOFFSETFROM:+0100
TZOFFSETTO:+0200
TZNAME:CEST
DTSTART:20250330T010000
END:DAYLIGHT
BEGIN:STANDARD
TZOFFSETFROM:+0200
TZOFFSETTO:+0100
TZNAME:CET
DTSTART:20251026T010000
END:STANDARD
BEGIN:DAYLIGHT
TZOFFSETFROM:+0100
TZOFFSETTO:+0200
TZNAME:CEST
DTSTART:20260329T010000
END:DAYLIGHT
BEGIN:STANDARD
TZOFFSETFROM:+0200
TZOFFSETTO:+0100
TZNAME:CET
DTSTART:20261025T010000
END:STANDARD
END:VTIMEZONE
BEGIN:VEVENT
DTSTART;TZID=Europe/Berlin:20250506T190000
DTEND;TZID=Europe/Berlin:20250506T210000
DTSTAMP:20260419T183919
CREATED:20250417T022136Z
LAST-MODIFIED:20250417T022136Z
UID:537-1746558000-1746565200@bibliotheksfreunde-bm.org
SUMMARY:Buchvorstellung zum 80. Geburtstag des Lyrikers Axel Kutsch
DESCRIPTION:Der Dichter und Herausgeber Axel Kutsch ist einer der bedeutendsten Kartographen der deutschsprachigen Lyrik. \nIm Laufe seiner literarischen Karriere hat er zwölf vielbeachtete Lyrik-Einzelbände veröffentlicht\, deren Texte vielfach übersetzt und nachgedruckt wurden. Fast noch bedeutender ist sein Wirken als Herausgeber von gut 30 Anthologien\, darunter 15 Ausgaben des Jahrbuchs „Versnetze“\, das als ein Standartwerk für zeitgenössische Lyrik gilt. Nicht zu vergessen ist auch sein Engagement als langjähriger Vorsitzender des Autorenkreises Rhein-Erft. Axel Kutsch wurde so zu einem der wichtigsten Autoren\, die in den vergangenen Jahrzehnten in Bergheim gewirkt haben. \nNach seiner schweren Erkrankung im Februar 2023 haben seine Tochter Katja Kutsch und der Schriftsteller Gerrit Wustmann das dichterisches Gesamtwerk von Axel Kutsch zusammengestellt. Anlässlich seines 80igsten Geburtstags stellen beide das Buch am Dienstag\, dem 06. Mai um 19:00 Uhr in der Stadtbibliothek Bergheim vor – gemeinsam mit Verleger Ralf Liebe sowie Amir Shaheen\, Markus Peter\, Gundula Schiffer und Anton G. Leitner vor und sprechen über Axel Kutsch\, den Dichter und Menschen. Gedichte von Axel Kutsch werden von Bernt Hahn vorgetragen. Es wird\, um Kutsch zu zitieren\, eine »Feier des Wortes«. \nEintritt frei! Um Anmeldung wird gebeten. Der Einlass beginnt um 18:30 Uhr.
URL:https://bibliotheksfreunde-bm.org/event/buchvorstellung-zum-80-geburtstag-des-lyrikers-axel-kutsch/
LOCATION:Stadtbibliothek Bergheim\, Konrad-Adenauer-Platz 1\, Bergheim\, Nordrhein-Westfalen\, 50126\, Deutschland
END:VEVENT
BEGIN:VEVENT
DTSTART;TZID=Europe/Berlin:20250516T160000
DTEND;TZID=Europe/Berlin:20250516T173000
DTSTAMP:20260419T183919
CREATED:20250430T091932Z
LAST-MODIFIED:20250430T091932Z
UID:543-1747411200-1747416600@bibliotheksfreunde-bm.org
SUMMARY:Lit.Treff zu "Zur See" von Dörte Hansen
DESCRIPTION:Wir sprechen am Freitag\, den 16. Mai ab 16 Uhr über das Buch „Zur See“ von Dörte Hansen. \nDer Titel für den folgenden Lit.Treff wird wie immer am Ende der Veranstaltung von den Teilnehmern gewählt. \nModeration: Gisela Mertens \nTeilnahme kostenlos | Anmeldung unter Tel. 02271/89-380 oder stadtbibliothek@bergheim.de
URL:https://bibliotheksfreunde-bm.org/event/lit-treff-zu-zur-see-von-doerte-hansen/
LOCATION:Stadtbibliothek Bergheim\, Konrad-Adenauer-Platz 1\, Bergheim\, Nordrhein-Westfalen\, 50126\, Deutschland
END:VEVENT
END:VCALENDAR