BEGIN:VCALENDAR
VERSION:2.0
PRODID:-//Förderverein der Stadtbibliothek Bergheim - ECPv6.15.13//NONSGML v1.0//EN
CALSCALE:GREGORIAN
METHOD:PUBLISH
X-WR-CALNAME:Förderverein der Stadtbibliothek Bergheim
X-ORIGINAL-URL:https://bibliotheksfreunde-bm.org
X-WR-CALDESC:Veranstaltungen für Förderverein der Stadtbibliothek Bergheim
REFRESH-INTERVAL;VALUE=DURATION:PT1H
X-Robots-Tag:noindex
X-PUBLISHED-TTL:PT1H
BEGIN:VTIMEZONE
TZID:Europe/Berlin
BEGIN:DAYLIGHT
TZOFFSETFROM:+0100
TZOFFSETTO:+0200
TZNAME:CEST
DTSTART:20240331T010000
END:DAYLIGHT
BEGIN:STANDARD
TZOFFSETFROM:+0200
TZOFFSETTO:+0100
TZNAME:CET
DTSTART:20241027T010000
END:STANDARD
BEGIN:DAYLIGHT
TZOFFSETFROM:+0100
TZOFFSETTO:+0200
TZNAME:CEST
DTSTART:20250330T010000
END:DAYLIGHT
BEGIN:STANDARD
TZOFFSETFROM:+0200
TZOFFSETTO:+0100
TZNAME:CET
DTSTART:20251026T010000
END:STANDARD
BEGIN:DAYLIGHT
TZOFFSETFROM:+0100
TZOFFSETTO:+0200
TZNAME:CEST
DTSTART:20260329T010000
END:DAYLIGHT
BEGIN:STANDARD
TZOFFSETFROM:+0200
TZOFFSETTO:+0100
TZNAME:CET
DTSTART:20261025T010000
END:STANDARD
END:VTIMEZONE
BEGIN:VEVENT
DTSTART;TZID=Europe/Berlin:20250328T190000
DTEND;TZID=Europe/Berlin:20250328T203000
DTSTAMP:20260419T234131
CREATED:20250301T103651Z
LAST-MODIFIED:20250302T040229Z
UID:519-1743188400-1743193800@bibliotheksfreunde-bm.org
SUMMARY:Lit. Schreib präsentiert "Texte des März"
DESCRIPTION:Autorinnen und Autoren der Schreibwerkstatt Lit. Schreib stellen ihre Texte vor. Sie sind bereits zum vierten Mal in Thorr zu Gast und freuen sich auch diesmal wieder sehr über die Einladung. Der Förderverein\, der die Schreibwerkstatt unterstützt\, wünscht allen Autorinnen und Autoren interessierte Zuhörerinnen und Zuhörer.
URL:https://bibliotheksfreunde-bm.org/event/lit-schreib-praesentiert-texte-des-maerz/
LOCATION:Pfarrheim Thorr\, Römerstraße 35\, Bergheim\, Nordrhein-Westfalen\, 50126\, Germany
END:VEVENT
END:VCALENDAR