BEGIN:VCALENDAR
VERSION:2.0
PRODID:-//Förderverein der Stadtbibliothek Bergheim - ECPv6.15.13//NONSGML v1.0//EN
CALSCALE:GREGORIAN
METHOD:PUBLISH
X-ORIGINAL-URL:https://bibliotheksfreunde-bm.org
X-WR-CALDESC:Veranstaltungen für Förderverein der Stadtbibliothek Bergheim
REFRESH-INTERVAL;VALUE=DURATION:PT1H
X-Robots-Tag:noindex
X-PUBLISHED-TTL:PT1H
BEGIN:VTIMEZONE
TZID:Europe/Berlin
BEGIN:DAYLIGHT
TZOFFSETFROM:+0100
TZOFFSETTO:+0200
TZNAME:CEST
DTSTART:20240331T010000
END:DAYLIGHT
BEGIN:STANDARD
TZOFFSETFROM:+0200
TZOFFSETTO:+0100
TZNAME:CET
DTSTART:20241027T010000
END:STANDARD
BEGIN:DAYLIGHT
TZOFFSETFROM:+0100
TZOFFSETTO:+0200
TZNAME:CEST
DTSTART:20250330T010000
END:DAYLIGHT
BEGIN:STANDARD
TZOFFSETFROM:+0200
TZOFFSETTO:+0100
TZNAME:CET
DTSTART:20251026T010000
END:STANDARD
BEGIN:DAYLIGHT
TZOFFSETFROM:+0100
TZOFFSETTO:+0200
TZNAME:CEST
DTSTART:20260329T010000
END:DAYLIGHT
BEGIN:STANDARD
TZOFFSETFROM:+0200
TZOFFSETTO:+0100
TZNAME:CET
DTSTART:20261025T010000
END:STANDARD
END:VTIMEZONE
BEGIN:VEVENT
DTSTART;TZID=Europe/Berlin:20250301T100000
DTEND;TZID=Europe/Berlin:20250301T130000
DTSTAMP:20260419T234412
CREATED:20250227T044009Z
LAST-MODIFIED:20250227T044039Z
UID:514-1740823200-1740834000@bibliotheksfreunde-bm.org
SUMMARY:Bibliotheksflohmarkt
DESCRIPTION:Der Bibliotheksflohmarkt wird vom Förderverein veranstaltet\, somit machen wir gerne darauf aufmerksam. \nWährend der Öffnungszeit der Bibliothek von 10 – 13 Uhr werden im Foyer des MEDIO.RHEIN.ERFT Kinderbücher\, Romane\, Sachbücher\, Zeitschriften\, CDs\, Hörbücher und DVDs zu günstigen Preisen verkauft.
URL:https://bibliotheksfreunde-bm.org/event/bibliotheksflohmarkt/
LOCATION:Stadtbibliothek Bergheim\, Konrad-Adenauer-Platz 1\, Bergheim\, Nordrhein-Westfalen\, 50126\, Deutschland
END:VEVENT
END:VCALENDAR