BEGIN:VCALENDAR
VERSION:2.0
PRODID:-//Förderverein der Stadtbibliothek Bergheim - ECPv6.15.13//NONSGML v1.0//EN
CALSCALE:GREGORIAN
METHOD:PUBLISH
X-WR-CALNAME:Förderverein der Stadtbibliothek Bergheim
X-ORIGINAL-URL:https://bibliotheksfreunde-bm.org
X-WR-CALDESC:Veranstaltungen für Förderverein der Stadtbibliothek Bergheim
REFRESH-INTERVAL;VALUE=DURATION:PT1H
X-Robots-Tag:noindex
X-PUBLISHED-TTL:PT1H
BEGIN:VTIMEZONE
TZID:Europe/Berlin
BEGIN:DAYLIGHT
TZOFFSETFROM:+0100
TZOFFSETTO:+0200
TZNAME:CEST
DTSTART:20240331T010000
END:DAYLIGHT
BEGIN:STANDARD
TZOFFSETFROM:+0200
TZOFFSETTO:+0100
TZNAME:CET
DTSTART:20241027T010000
END:STANDARD
BEGIN:DAYLIGHT
TZOFFSETFROM:+0100
TZOFFSETTO:+0200
TZNAME:CEST
DTSTART:20250330T010000
END:DAYLIGHT
BEGIN:STANDARD
TZOFFSETFROM:+0200
TZOFFSETTO:+0100
TZNAME:CET
DTSTART:20251026T010000
END:STANDARD
BEGIN:DAYLIGHT
TZOFFSETFROM:+0100
TZOFFSETTO:+0200
TZNAME:CEST
DTSTART:20260329T010000
END:DAYLIGHT
BEGIN:STANDARD
TZOFFSETFROM:+0200
TZOFFSETTO:+0100
TZNAME:CET
DTSTART:20261025T010000
END:STANDARD
END:VTIMEZONE
BEGIN:VEVENT
DTSTART;TZID=Europe/Berlin:20250124T160000
DTEND;TZID=Europe/Berlin:20250124T173000
DTSTAMP:20260420T024856
CREATED:20250106T213521Z
LAST-MODIFIED:20250106T214104Z
UID:500-1737734400-1737739800@bibliotheksfreunde-bm.org
SUMMARY:Lit.Treff zu "22 Bahnen" von Caroline Wahl
DESCRIPTION:Wir sprechen am Freitag\, den 24. Januar ab 16 Uhr über das Buch „22 Bahnen“ von Caroline Wahl. \nDer Titel für den folgenden Lit.Treff wird wie immer am Ende der Veranstaltung von den Teilnehmern gewählt. \nModeration: Gisela Mertens \nTeilnahme kostenlos | Anmeldung unter Tel. 02271/89-380 oder stadtbiblio \nthek@bergheim.de
URL:https://bibliotheksfreunde-bm.org/event/lit-treff-zu-22-bahnen/
LOCATION:Stadtbibliothek Bergheim\, Konrad-Adenauer-Platz 1\, Bergheim\, Nordrhein-Westfalen\, 50126\, Deutschland
END:VEVENT
END:VCALENDAR