BEGIN:VCALENDAR
VERSION:2.0
PRODID:-//Förderverein der Stadtbibliothek Bergheim - ECPv6.15.13//NONSGML v1.0//EN
CALSCALE:GREGORIAN
METHOD:PUBLISH
X-ORIGINAL-URL:https://bibliotheksfreunde-bm.org
X-WR-CALDESC:Veranstaltungen für Förderverein der Stadtbibliothek Bergheim
REFRESH-INTERVAL;VALUE=DURATION:PT1H
X-Robots-Tag:noindex
X-PUBLISHED-TTL:PT1H
BEGIN:VTIMEZONE
TZID:Europe/Berlin
BEGIN:DAYLIGHT
TZOFFSETFROM:+0100
TZOFFSETTO:+0200
TZNAME:CEST
DTSTART:20240331T010000
END:DAYLIGHT
BEGIN:STANDARD
TZOFFSETFROM:+0200
TZOFFSETTO:+0100
TZNAME:CET
DTSTART:20241027T010000
END:STANDARD
BEGIN:DAYLIGHT
TZOFFSETFROM:+0100
TZOFFSETTO:+0200
TZNAME:CEST
DTSTART:20250330T010000
END:DAYLIGHT
BEGIN:STANDARD
TZOFFSETFROM:+0200
TZOFFSETTO:+0100
TZNAME:CET
DTSTART:20251026T010000
END:STANDARD
BEGIN:DAYLIGHT
TZOFFSETFROM:+0100
TZOFFSETTO:+0200
TZNAME:CEST
DTSTART:20260329T010000
END:DAYLIGHT
BEGIN:STANDARD
TZOFFSETFROM:+0200
TZOFFSETTO:+0100
TZNAME:CET
DTSTART:20261025T010000
END:STANDARD
END:VTIMEZONE
BEGIN:VEVENT
DTSTART;TZID=Europe/Berlin:20250122T190000
DTEND;TZID=Europe/Berlin:20250122T203000
DTSTAMP:20260420T025259
CREATED:20241208T133326Z
LAST-MODIFIED:20241208T133326Z
UID:488-1737572400-1737577800@bibliotheksfreunde-bm.org
SUMMARY:Virtueller Spaziergang mit Lichtbildern zu Goethe
DESCRIPTION:Die Stadtbibliothek Bergheim und ihr Förderverein widmen eine ihrer nächsten Veranstaltungen dem großen Klassiker JOHANN WOLFGANG GOETHE. In einem Vortrag mit Lichtbildern wird Andreas Rumler von der Goethe-Gesellschaft Weimar\, der zugleich Mitglied im Förderverein ist\, durch Goethes Leben und Werk als Dichter\, Staatsmann und Wissenschaftler führen.
URL:https://bibliotheksfreunde-bm.org/event/virtueller-spaziergang-mit-lichtbildern-zu-goethe/
LOCATION:Nordrhein-Westfalen
END:VEVENT
END:VCALENDAR