BEGIN:VCALENDAR
VERSION:2.0
PRODID:-//Förderverein der Stadtbibliothek Bergheim - ECPv6.15.13//NONSGML v1.0//EN
CALSCALE:GREGORIAN
METHOD:PUBLISH
X-WR-CALNAME:Förderverein der Stadtbibliothek Bergheim
X-ORIGINAL-URL:https://bibliotheksfreunde-bm.org
X-WR-CALDESC:Veranstaltungen für Förderverein der Stadtbibliothek Bergheim
REFRESH-INTERVAL;VALUE=DURATION:PT1H
X-Robots-Tag:noindex
X-PUBLISHED-TTL:PT1H
BEGIN:VTIMEZONE
TZID:Europe/Berlin
BEGIN:DAYLIGHT
TZOFFSETFROM:+0100
TZOFFSETTO:+0200
TZNAME:CEST
DTSTART:20230326T010000
END:DAYLIGHT
BEGIN:STANDARD
TZOFFSETFROM:+0200
TZOFFSETTO:+0100
TZNAME:CET
DTSTART:20231029T010000
END:STANDARD
BEGIN:DAYLIGHT
TZOFFSETFROM:+0100
TZOFFSETTO:+0200
TZNAME:CEST
DTSTART:20240331T010000
END:DAYLIGHT
BEGIN:STANDARD
TZOFFSETFROM:+0200
TZOFFSETTO:+0100
TZNAME:CET
DTSTART:20241027T010000
END:STANDARD
BEGIN:DAYLIGHT
TZOFFSETFROM:+0100
TZOFFSETTO:+0200
TZNAME:CEST
DTSTART:20250330T010000
END:DAYLIGHT
BEGIN:STANDARD
TZOFFSETFROM:+0200
TZOFFSETTO:+0100
TZNAME:CET
DTSTART:20251026T010000
END:STANDARD
END:VTIMEZONE
BEGIN:VEVENT
DTSTART;TZID=Europe/Berlin:20241122T160000
DTEND;TZID=Europe/Berlin:20241122T180000
DTSTAMP:20260420T063352
CREATED:20241118T184010Z
LAST-MODIFIED:20241118T184010Z
UID:480-1732291200-1732298400@bibliotheksfreunde-bm.org
SUMMARY:Lit.Treff zu "Leonard und Paul"
DESCRIPTION:Wir sprechen am Freitag\, den 22. November ab 16 Uhr über das Buch „Leonard und Paul“ von Rónán Hession. \nDer Titel für den folgenden Lit.Treff wird wie immer am Ende der Veranstaltung von den Teilnehmern gewählt. \nModeration: Gisela Mertens \nTeilnahme kostenlos | Anmeldung unter Tel. 02271/89-380 oder stadtbibliothek@bergheimde
URL:https://bibliotheksfreunde-bm.org/event/lit-treff-zu-leonard-und-paul/
LOCATION:Stadtbibliothek Bergheim\, Konrad-Adenauer-Platz 1\, Bergheim\, Nordrhein-Westfalen\, 50126\, Deutschland
END:VEVENT
END:VCALENDAR