BEGIN:VCALENDAR
VERSION:2.0
PRODID:-//Förderverein der Stadtbibliothek Bergheim - ECPv6.15.13//NONSGML v1.0//EN
CALSCALE:GREGORIAN
METHOD:PUBLISH
X-WR-CALNAME:Förderverein der Stadtbibliothek Bergheim
X-ORIGINAL-URL:https://bibliotheksfreunde-bm.org
X-WR-CALDESC:Veranstaltungen für Förderverein der Stadtbibliothek Bergheim
REFRESH-INTERVAL;VALUE=DURATION:PT1H
X-Robots-Tag:noindex
X-PUBLISHED-TTL:PT1H
BEGIN:VTIMEZONE
TZID:Europe/Berlin
BEGIN:DAYLIGHT
TZOFFSETFROM:+0100
TZOFFSETTO:+0200
TZNAME:CEST
DTSTART:20230326T010000
END:DAYLIGHT
BEGIN:STANDARD
TZOFFSETFROM:+0200
TZOFFSETTO:+0100
TZNAME:CET
DTSTART:20231029T010000
END:STANDARD
BEGIN:DAYLIGHT
TZOFFSETFROM:+0100
TZOFFSETTO:+0200
TZNAME:CEST
DTSTART:20240331T010000
END:DAYLIGHT
BEGIN:STANDARD
TZOFFSETFROM:+0200
TZOFFSETTO:+0100
TZNAME:CET
DTSTART:20241027T010000
END:STANDARD
BEGIN:DAYLIGHT
TZOFFSETFROM:+0100
TZOFFSETTO:+0200
TZNAME:CEST
DTSTART:20250330T010000
END:DAYLIGHT
BEGIN:STANDARD
TZOFFSETFROM:+0200
TZOFFSETTO:+0100
TZNAME:CET
DTSTART:20251026T010000
END:STANDARD
END:VTIMEZONE
BEGIN:VEVENT
DTSTART;TZID=Europe/Berlin:20240915T110000
DTEND;TZID=Europe/Berlin:20240915T123000
DTSTAMP:20260420T095855
CREATED:20240824T124144Z
LAST-MODIFIED:20240824T124703Z
UID:426-1726398000-1726403400@bibliotheksfreunde-bm.org
SUMMARY:Lit.Schreib bei Wort im Gleis
DESCRIPTION:Kaum einem Thema wurde in der Weltliteratur so viel Beachtung geschenkt wie der Familie und ihren Mechanismen. Die Autorinnen und Autoren der Lit.Schreib haben über sie geschrieben. Über was Familienbande sein können. Über was uns zusammen- und auseinanderbringt und darüber\, was wir voreinander verstecken. Es erwartet Sie eine wunderbare Lesung!
URL:https://bibliotheksfreunde-bm.org/event/lit-schreib-bei-wort-im-gleis/
LOCATION:Gleis 11\, Frenser Straße 11\, Quadrath-Ichendorf\, Nordrhein-Westfalen\, 50127\, Germany
END:VEVENT
END:VCALENDAR