BEGIN:VCALENDAR
VERSION:2.0
PRODID:-//Förderverein der Stadtbibliothek Bergheim - ECPv6.15.13//NONSGML v1.0//EN
CALSCALE:GREGORIAN
METHOD:PUBLISH
X-WR-CALNAME:Förderverein der Stadtbibliothek Bergheim
X-ORIGINAL-URL:https://bibliotheksfreunde-bm.org
X-WR-CALDESC:Veranstaltungen für Förderverein der Stadtbibliothek Bergheim
REFRESH-INTERVAL;VALUE=DURATION:PT1H
X-Robots-Tag:noindex
X-PUBLISHED-TTL:PT1H
BEGIN:VTIMEZONE
TZID:Europe/Berlin
BEGIN:DAYLIGHT
TZOFFSETFROM:+0100
TZOFFSETTO:+0200
TZNAME:CEST
DTSTART:20230326T010000
END:DAYLIGHT
BEGIN:STANDARD
TZOFFSETFROM:+0200
TZOFFSETTO:+0100
TZNAME:CET
DTSTART:20231029T010000
END:STANDARD
BEGIN:DAYLIGHT
TZOFFSETFROM:+0100
TZOFFSETTO:+0200
TZNAME:CEST
DTSTART:20240331T010000
END:DAYLIGHT
BEGIN:STANDARD
TZOFFSETFROM:+0200
TZOFFSETTO:+0100
TZNAME:CET
DTSTART:20241027T010000
END:STANDARD
BEGIN:DAYLIGHT
TZOFFSETFROM:+0100
TZOFFSETTO:+0200
TZNAME:CEST
DTSTART:20250330T010000
END:DAYLIGHT
BEGIN:STANDARD
TZOFFSETFROM:+0200
TZOFFSETTO:+0100
TZNAME:CET
DTSTART:20251026T010000
END:STANDARD
END:VTIMEZONE
BEGIN:VEVENT
DTSTART;TZID=Europe/Berlin:20240630T080000
DTEND;TZID=Europe/Berlin:20240630T170000
DTSTAMP:20260420T141547
CREATED:20240615T092641Z
LAST-MODIFIED:20240615T092641Z
UID:242-1719734400-1719766800@bibliotheksfreunde-bm.org
SUMMARY:Förderverein beim Tag der Vereine
DESCRIPTION:Am Tag der Vereine ist die Bergheimer Innenstadt mit spannenden Vereinen besetzt – und auch der Förderverein der Stadtbibliothek Bergheim wird am 30. Juni 2024 da sein. Wir befinden uns in der Nähe des Café Extrablatt – besuchen Sie uns!
URL:https://bibliotheksfreunde-bm.org/event/foerderverein-beim-tag-der-vereine/
LOCATION:Nordrhein-Westfalen
END:VEVENT
END:VCALENDAR